BEGIN:VCALENDAR
VERSION:2.0
PRODID:-//Boulder.Earth Climate Action Portal - ECPv6.15.20//NONSGML v1.0//EN
CALSCALE:GREGORIAN
METHOD:PUBLISH
X-WR-CALNAME:Boulder.Earth Climate Action Portal
X-ORIGINAL-URL:https://boulder.earth
X-WR-CALDESC:Events for Boulder.Earth Climate Action Portal
REFRESH-INTERVAL;VALUE=DURATION:PT1H
X-Robots-Tag:noindex
X-PUBLISHED-TTL:PT1H
BEGIN:VTIMEZONE
TZID:America/Denver
BEGIN:DAYLIGHT
TZOFFSETFROM:-0700
TZOFFSETTO:-0600
TZNAME:MDT
DTSTART:20250309T090000
END:DAYLIGHT
BEGIN:STANDARD
TZOFFSETFROM:-0600
TZOFFSETTO:-0700
TZNAME:MST
DTSTART:20251102T080000
END:STANDARD
BEGIN:DAYLIGHT
TZOFFSETFROM:-0700
TZOFFSETTO:-0600
TZNAME:MDT
DTSTART:20260308T090000
END:DAYLIGHT
BEGIN:STANDARD
TZOFFSETFROM:-0600
TZOFFSETTO:-0700
TZNAME:MST
DTSTART:20261101T080000
END:STANDARD
BEGIN:DAYLIGHT
TZOFFSETFROM:-0700
TZOFFSETTO:-0600
TZNAME:MDT
DTSTART:20270314T090000
END:DAYLIGHT
BEGIN:STANDARD
TZOFFSETFROM:-0600
TZOFFSETTO:-0700
TZNAME:MST
DTSTART:20271107T080000
END:STANDARD
END:VTIMEZONE
BEGIN:VEVENT
DTSTART;TZID=America/Denver:20260406T173000
DTEND;TZID=America/Denver:20260406T183000
DTSTAMP:20260425T151545
CREATED:20260318T004410Z
LAST-MODIFIED:20260318T004410Z
UID:10003363-1775496600-1775500200@boulder.earth
SUMMARY:Spaceship Earth Multimedia Presentation Boulder Arts Week!
DESCRIPTION:Spaceship Earth Multimedia Presentation Boulder Arts Week!\nWhen: April 6\, 5:30-6:30pm \nWhere: Junkyard Social Club \nLEARN MORE HERE! \nJoin us for Boulder Arts Week and celebrate the 56th Anniversary of Earth Day in this wonderful space that is woman owned and LGBTQ+ friendly at Junkyard Social Club in beautiful Boulder\, Colorado! \nAs a musician and activist\, I will be sharing my multimedia presentation with art\, photography\, science and live music (Laurie D) I created in 2012\, Spaceship Earth: What Can I Do? Ask yourself “What can I do?” You can be part of the solution! Have fun learning all kinds of simple acts we can all take to create more sustainable communities and this beautiful planet we share! \nOur precious planet is like a spaceship out in space. We only have so much water\, air\, resources that will NOT be re-supplied! The EPA (Environmental Protection Agency) states that over 40% of our greenhouse emissions come from the way products are extracted\, produced\, transported\, and gotten rid of (even recycling takes energy). They also say that striving for zero waste is one of the easiest and quickest ways to fight climate change! \n“Spaceship earth is not really a metaphor: we’ve got one planet\, and it’s experiencing unprecedented mechanical difficulties. This presentation helps remind us how we can do our part to get it back on course.” – Bill McKibben best selling author and founder of 350.0rg \n“Laurie’s “What Can I Do?” Spaceship Earth is powerful!” – Jared Polis – Governor Colorado \n“This woman taught me more in an hour performance about what I can do to help save our planet than I’ve learned in the past 10 years!” – Stacy
URL:https://boulder.earth/event/spaceship-earth-multimedia-presentation-boulder-arts-week/
LOCATION:Junkyard Social Club\, 2525 Frontier Ave\, Unit A\, Boulder\, CO\, 80301
CATEGORIES:climate,community,creative arts,Nature,Networking,resilience,social justice
ATTACH;FMTTYPE=image/jpeg:https://boulder.earth/wp-content/uploads/2026/03/650733284_1544839387647537_4904812436923164943_n.jpg
GEO:40.0233787;-105.2480485
X-APPLE-STRUCTURED-LOCATION;VALUE=URI;X-ADDRESS=Junkyard Social Club 2525 Frontier Ave Unit A Boulder CO 80301;X-APPLE-RADIUS=500;X-TITLE=2525 Frontier Ave\, Unit A:geo:-105.2480485,40.0233787
END:VEVENT
BEGIN:VEVENT
DTSTART;VALUE=DATE:20260403
DTEND;VALUE=DATE:20260413
DTSTAMP:20260425T151545
CREATED:20260407T234546Z
LAST-MODIFIED:20260407T234546Z
UID:10003431-1775174400-1776038399@boulder.earth
SUMMARY:Boulder Arts Week
DESCRIPTION:Boulder Arts Week\nWhen: April 3-12 \nWhere: Boulder \nLEARN MORE HERE! \nImmerse yourself in a week-long celebration of art and creativity! Join us for a community arts event that showcases the best and brightest talent in our local area through cultural experiences from murals and installations to music and dance at the 12th annual Boulder Arts Week.
URL:https://boulder.earth/event/boulder-arts-week/
LOCATION:Downtown Boulder\, Boulder\, CO\, 80302\, United States
CATEGORIES:community,creative arts,culture building,resilience
ATTACH;FMTTYPE=image/png:https://boulder.earth/wp-content/uploads/2026/04/Screenshot-2026-04-07-at-5.45.14-PM-e1775605540844.png
END:VEVENT
END:VCALENDAR