BEGIN:VCALENDAR
VERSION:2.0
PRODID:-//Boulder.Earth Climate Action Portal - ECPv6.15.20//NONSGML v1.0//EN
CALSCALE:GREGORIAN
METHOD:PUBLISH
X-ORIGINAL-URL:https://boulder.earth
X-WR-CALDESC:Events for Boulder.Earth Climate Action Portal
REFRESH-INTERVAL;VALUE=DURATION:PT1H
X-Robots-Tag:noindex
X-PUBLISHED-TTL:PT1H
BEGIN:VTIMEZONE
TZID:America/Denver
BEGIN:DAYLIGHT
TZOFFSETFROM:-0700
TZOFFSETTO:-0600
TZNAME:MDT
DTSTART:20250309T090000
END:DAYLIGHT
BEGIN:STANDARD
TZOFFSETFROM:-0600
TZOFFSETTO:-0700
TZNAME:MST
DTSTART:20251102T080000
END:STANDARD
BEGIN:DAYLIGHT
TZOFFSETFROM:-0700
TZOFFSETTO:-0600
TZNAME:MDT
DTSTART:20260308T090000
END:DAYLIGHT
BEGIN:STANDARD
TZOFFSETFROM:-0600
TZOFFSETTO:-0700
TZNAME:MST
DTSTART:20261101T080000
END:STANDARD
BEGIN:DAYLIGHT
TZOFFSETFROM:-0700
TZOFFSETTO:-0600
TZNAME:MDT
DTSTART:20270314T090000
END:DAYLIGHT
BEGIN:STANDARD
TZOFFSETFROM:-0600
TZOFFSETTO:-0700
TZNAME:MST
DTSTART:20271107T080000
END:STANDARD
END:VTIMEZONE
BEGIN:VEVENT
DTSTART;TZID=America/Denver:20260417T180000
DTEND;TZID=America/Denver:20260417T213000
DTSTAMP:20260425T152953
CREATED:20260422T035357Z
LAST-MODIFIED:20260422T035357Z
UID:10003471-1776448800-1776461400@boulder.earth
SUMMARY:Starry Night Out
DESCRIPTION:Starry Night Out\nWhen: April 17\, 6pm-9:30pm \nWhere: The Establishment in Bradburn Village \nTICKETS HERE! \nJoin us on April 17th for an evening of space science+art and fundraising hosted by the Broomfield Council on the Arts and Humanities at The Establishment in Bradburn Village. \nAttendees will immerse themselves in a vibrant celebration of creativity with stunning performances\, the signature Creative Immersion Room\, a live auction of unique experiences\, and a silent auction filled with delightful treasures\, baskets\, and artwork. \nThis event promises to not only to be a night of culture and connection but also a vital fundraiser that supports our mission to enrich the community through arts\, culture\, and science. \nWe can only continue to serve 43\,000 per year with your support\, so buy your tickets or a table and prepare for an unforgettable night that will inspire and uplift! \nDress code: Dress comfortably or bring on the glitz — you choose!
URL:https://boulder.earth/event/starry-night-out/
LOCATION:The Establishment in Bradburn Village\, 11885 Bradburn Blvd\, Westminster\, CO 80031
CATEGORIES:community,creative arts,fundraiser
ATTACH;FMTTYPE=image/png:https://boulder.earth/wp-content/uploads/2026/04/6c6d90bbf4dde3662cbed66558a43045.png
GEO:39.9124554;-105.042121
X-APPLE-STRUCTURED-LOCATION;VALUE=URI;X-ADDRESS=The Establishment in Bradburn Village 11885 Bradburn Blvd Westminster CO 80031;X-APPLE-RADIUS=500;X-TITLE=11885 Bradburn Blvd\, Westminster\, CO 80031:geo:-105.042121,39.9124554
END:VEVENT
END:VCALENDAR