BEGIN:VCALENDAR
VERSION:2.0
PRODID:-//Boulder.Earth Climate Action Portal - ECPv6.15.20//NONSGML v1.0//EN
CALSCALE:GREGORIAN
METHOD:PUBLISH
X-WR-CALNAME:Boulder.Earth Climate Action Portal
X-ORIGINAL-URL:https://boulder.earth
X-WR-CALDESC:Events for Boulder.Earth Climate Action Portal
REFRESH-INTERVAL;VALUE=DURATION:PT1H
X-Robots-Tag:noindex
X-PUBLISHED-TTL:PT1H
BEGIN:VTIMEZONE
TZID:America/Denver
BEGIN:DAYLIGHT
TZOFFSETFROM:-0700
TZOFFSETTO:-0600
TZNAME:MDT
DTSTART:20250309T090000
END:DAYLIGHT
BEGIN:STANDARD
TZOFFSETFROM:-0600
TZOFFSETTO:-0700
TZNAME:MST
DTSTART:20251102T080000
END:STANDARD
BEGIN:DAYLIGHT
TZOFFSETFROM:-0700
TZOFFSETTO:-0600
TZNAME:MDT
DTSTART:20260308T090000
END:DAYLIGHT
BEGIN:STANDARD
TZOFFSETFROM:-0600
TZOFFSETTO:-0700
TZNAME:MST
DTSTART:20261101T080000
END:STANDARD
BEGIN:DAYLIGHT
TZOFFSETFROM:-0700
TZOFFSETTO:-0600
TZNAME:MDT
DTSTART:20270314T090000
END:DAYLIGHT
BEGIN:STANDARD
TZOFFSETFROM:-0600
TZOFFSETTO:-0700
TZNAME:MST
DTSTART:20271107T080000
END:STANDARD
END:VTIMEZONE
BEGIN:VEVENT
DTSTART;TZID=America/Denver:20260331T183000
DTEND;TZID=America/Denver:20260331T200000
DTSTAMP:20260425T152428
CREATED:20260324T233126Z
LAST-MODIFIED:20260324T233126Z
UID:10003371-1774981800-1774987200@boulder.earth
SUMMARY:Eagles!  Their Lives\, Symbolism and Cultural Significance. Featuring live eagles!
DESCRIPTION:Eagles!  Their Lives\, Symbolism and Cultural Significance. Featuring live eagles!\nWhen: March 31\, 6:30pm-8pm \nWhere: Lafayette Library \nLEARN MORE HERE! \nThe Bald Eagle and Golden Eagle are the national symbols of the United States and Mexico\, respectively.  This program will feature a showing of these two birds (live and in the feather!) and lots of amazing information about the birds themselves\, their cultural significance and symbolism.  What lessons do they hold for our lives\, today?  The program will be suitable for adults\, youth and for families with kids 5th grade and older.  Presented by the Boulder County Audubon Society.   Sponsored by IdentiFlight – Bird Detection System. \nNo RSVP required\, but contact Martin Ogle at  MartinOgle@hotmail.com  for more information.
URL:https://boulder.earth/event/eagles-their-lives-symbolism-and-cultural-significance-featuring-live-eagles/
LOCATION:Lafayette Library\, 775 W. Baseline Road\, Lafayette
CATEGORIES:Animals,Biodiversity,community,culture building,education
ATTACH;FMTTYPE=image/png:https://boulder.earth/wp-content/uploads/2026/03/image-1-e1774395081860.png
GEO:40.0008006;-105.0995124
X-APPLE-STRUCTURED-LOCATION;VALUE=URI;X-ADDRESS=Lafayette Library 775 W. Baseline Road Lafayette;X-APPLE-RADIUS=500;X-TITLE=775 W. Baseline Road:geo:-105.0995124,40.0008006
END:VEVENT
END:VCALENDAR