BEGIN:VCALENDAR
VERSION:2.0
PRODID:-//Boulder.Earth Climate Action Portal - ECPv6.15.20//NONSGML v1.0//EN
CALSCALE:GREGORIAN
METHOD:PUBLISH
X-ORIGINAL-URL:https://boulder.earth
X-WR-CALDESC:Events for Boulder.Earth Climate Action Portal
REFRESH-INTERVAL;VALUE=DURATION:PT1H
X-Robots-Tag:noindex
X-PUBLISHED-TTL:PT1H
BEGIN:VTIMEZONE
TZID:America/Denver
BEGIN:DAYLIGHT
TZOFFSETFROM:-0700
TZOFFSETTO:-0600
TZNAME:MDT
DTSTART:20250309T090000
END:DAYLIGHT
BEGIN:STANDARD
TZOFFSETFROM:-0600
TZOFFSETTO:-0700
TZNAME:MST
DTSTART:20251102T080000
END:STANDARD
BEGIN:DAYLIGHT
TZOFFSETFROM:-0700
TZOFFSETTO:-0600
TZNAME:MDT
DTSTART:20260308T090000
END:DAYLIGHT
BEGIN:STANDARD
TZOFFSETFROM:-0600
TZOFFSETTO:-0700
TZNAME:MST
DTSTART:20261101T080000
END:STANDARD
BEGIN:DAYLIGHT
TZOFFSETFROM:-0700
TZOFFSETTO:-0600
TZNAME:MDT
DTSTART:20270314T090000
END:DAYLIGHT
BEGIN:STANDARD
TZOFFSETFROM:-0600
TZOFFSETTO:-0700
TZNAME:MST
DTSTART:20271107T080000
END:STANDARD
END:VTIMEZONE
BEGIN:VEVENT
DTSTART;TZID=America/Denver:20260428T180000
DTEND;TZID=America/Denver:20260428T200000
DTSTAMP:20260425T140345
CREATED:20260422T041528Z
LAST-MODIFIED:20260422T041528Z
UID:10003639-1777399200-1777406400@boulder.earth
SUMMARY:Making a Living and a Life; ALL Careers as “Environmental Careers"
DESCRIPTION:Making a Living and a Life; ALL Careers as “Environmental Careers”\nWhen: April 28\, 6pm-8pm \nWhere: New Vista High School \nRSVP HERE! \n\n\nThis program will bring the ALL Careers Approach to Education to high school students. Planned by BVSD students and held at a BVSD School! \n\n\n\n\nThis program will introduce the ALL Careers Approach to Education to BVSD students and others. Significantly\, it is being planned by BVSD students and will be held at a BVSD school! It will include a panel discussion with businesses (JAX and Treehouse learning) and students\, engaging activities\, and ideas galore for how to take the ALL Careers approach and increase your 21st century job readiness! \nCome at 6:00 pm for a 30 minute gather-up period to mingle\, learn about the CU Sustainable Business Club and Sharpe Sustainability Center and enjoy free pizza! The program starts at 6:30. Thank you to JAX Mercantile and JR Heckman LLC for sponsoring free pizza! \nThe ALL Careers approach connects environmental and energy understanding to every career path — not just the small subset traditionally labeled as “environmental or green careers.” The goal is to inspire and equip young people with the knowledge that environmental principles are relevant in every field. This is a path to a green economy that empowers us all – especially youth! \nRSVP’s at this Eventbrite Site encouraged; “walk-ins” welcome.
URL:https://boulder.earth/event/making-a-living-and-a-life-all-careers-as-environmental-careers/
LOCATION:New Vista High School\, 700 20th St\, Boulder\, 80302
CATEGORIES:climate,Networking,youth
ATTACH;FMTTYPE=image/webp:https://boulder.earth/wp-content/uploads/2026/04/image-1-e1776831292645.webp
GEO:40.0009659;-105.2671431
X-APPLE-STRUCTURED-LOCATION;VALUE=URI;X-ADDRESS=New Vista High School 700 20th St Boulder 80302;X-APPLE-RADIUS=500;X-TITLE=700 20th St\, Boulder\, 80302:geo:-105.2671431,40.0009659
END:VEVENT
END:VCALENDAR