BEGIN:VCALENDAR
VERSION:2.0
PRODID:-//Boulder.Earth Climate Action Portal - ECPv6.15.20//NONSGML v1.0//EN
CALSCALE:GREGORIAN
METHOD:PUBLISH
X-ORIGINAL-URL:https://boulder.earth
X-WR-CALDESC:Events for Boulder.Earth Climate Action Portal
REFRESH-INTERVAL;VALUE=DURATION:PT1H
X-Robots-Tag:noindex
X-PUBLISHED-TTL:PT1H
BEGIN:VTIMEZONE
TZID:America/Denver
BEGIN:DAYLIGHT
TZOFFSETFROM:-0700
TZOFFSETTO:-0600
TZNAME:MDT
DTSTART:20250309T090000
END:DAYLIGHT
BEGIN:STANDARD
TZOFFSETFROM:-0600
TZOFFSETTO:-0700
TZNAME:MST
DTSTART:20251102T080000
END:STANDARD
BEGIN:DAYLIGHT
TZOFFSETFROM:-0700
TZOFFSETTO:-0600
TZNAME:MDT
DTSTART:20260308T090000
END:DAYLIGHT
BEGIN:STANDARD
TZOFFSETFROM:-0600
TZOFFSETTO:-0700
TZNAME:MST
DTSTART:20261101T080000
END:STANDARD
BEGIN:DAYLIGHT
TZOFFSETFROM:-0700
TZOFFSETTO:-0600
TZNAME:MDT
DTSTART:20270314T090000
END:DAYLIGHT
BEGIN:STANDARD
TZOFFSETFROM:-0600
TZOFFSETTO:-0700
TZNAME:MST
DTSTART:20271107T080000
END:STANDARD
END:VTIMEZONE
BEGIN:VEVENT
DTSTART;TZID=America/Denver:20260430T183000
DTEND;TZID=America/Denver:20260430T193000
DTSTAMP:20260425T125242
CREATED:20260422T035021Z
LAST-MODIFIED:20260422T035021Z
UID:10003470-1777573800-1777577400@boulder.earth
SUMMARY:The Biodiversity Crisis is Urgent - the Solution is in Your Hands
DESCRIPTION:The Biodiversity Crisis is Urgent – the Solution is in Your Hands\nWhen: April 30\, 6:30pm-7:30pm \nWhere: Boulder Public Library \nLEARN MORE HERE! \nThere is a magical but often unseen eco-system operating in your own backyard!  Panel experts from organizations such as The Butterfly Pavilion and People and Pollinators Action Network will amaze you with how simply adding native plants to your yard can help save our pollinators.  An eye-opening 20-minute film will be followed by a Q and A. You will leave with a plan that makes it easy for you to get started. \n6:00 p.m.: Doors Open\n6:30 p.m.: Film followed by Q&A \nA range of experts will be in the lobby at outreach tables before and after the event. \nHosted by KISS Native Plants (Keep It Simple Solutions for Native Plant Gardeners)\nFor questions and more information contact Info@KISSnativePlants.org
URL:https://boulder.earth/event/the-biodiversity-crisis-is-urgent-the-solution-is-in-your-hands/
LOCATION:Boulder Public Library Canyon Theater\, 1001 Arapahoe Ave.
CATEGORIES:Biodiversity,climate,education,Land Management,Nature,pollinators
ATTACH;FMTTYPE=image/png:https://boulder.earth/wp-content/uploads/2026/04/2026_02_26_20_01_34.png
END:VEVENT
END:VCALENDAR