BEGIN:VCALENDAR
VERSION:2.0
PRODID:-//Boulder.Earth Climate Action Portal - ECPv6.15.20//NONSGML v1.0//EN
CALSCALE:GREGORIAN
METHOD:PUBLISH
X-WR-CALNAME:Boulder.Earth Climate Action Portal
X-ORIGINAL-URL:https://boulder.earth
X-WR-CALDESC:Events for Boulder.Earth Climate Action Portal
REFRESH-INTERVAL;VALUE=DURATION:PT1H
X-Robots-Tag:noindex
X-PUBLISHED-TTL:PT1H
BEGIN:VTIMEZONE
TZID:America/Denver
BEGIN:DAYLIGHT
TZOFFSETFROM:-0700
TZOFFSETTO:-0600
TZNAME:MDT
DTSTART:20250309T090000
END:DAYLIGHT
BEGIN:STANDARD
TZOFFSETFROM:-0600
TZOFFSETTO:-0700
TZNAME:MST
DTSTART:20251102T080000
END:STANDARD
BEGIN:DAYLIGHT
TZOFFSETFROM:-0700
TZOFFSETTO:-0600
TZNAME:MDT
DTSTART:20260308T090000
END:DAYLIGHT
BEGIN:STANDARD
TZOFFSETFROM:-0600
TZOFFSETTO:-0700
TZNAME:MST
DTSTART:20261101T080000
END:STANDARD
BEGIN:DAYLIGHT
TZOFFSETFROM:-0700
TZOFFSETTO:-0600
TZNAME:MDT
DTSTART:20270314T090000
END:DAYLIGHT
BEGIN:STANDARD
TZOFFSETFROM:-0600
TZOFFSETTO:-0700
TZNAME:MST
DTSTART:20271107T080000
END:STANDARD
END:VTIMEZONE
BEGIN:VEVENT
DTSTART;TZID=America/Denver:20260429T173000
DTEND;TZID=America/Denver:20260429T190000
DTSTAMP:20260425T153524
CREATED:20260420T144159Z
LAST-MODIFIED:20260420T144159Z
UID:10003463-1777483800-1777489200@boulder.earth
SUMMARY:PEOPLE of the SACRED LAND Film Premiere & Discussion
DESCRIPTION:PEOPLE of the SACRED LAND Film Premiere & Discussion\nWhen: April 29. 5:30pm\nWhere: Dairy Arts Center\nTICKETS HERE!\n\nWhat’s often missing from the conversations about colonization in the U.S. are rigorous\, comprehensive\, academically supported Native-led studies proving that— even through the lens of modern law— large areas of what we call the United States were truly stolen and remain illegally occupied. And nowhere in our country is the evidence and culpability more dramatic than in the state of Colorado. \nPEOPLE of the SACRED LAND follows Richard Williams (Oglala Lakota\, Northern Cheyenne) as he recounts the widely untold history of Colorado through the findings of the Truth\, Restoration\, and Education Commission (TREC) reports.
URL:https://boulder.earth/event/people-of-the-sacred-land-film-premiere-discussion/
LOCATION:Dairy Arts Center\, 2590 Walnut Street Boulder\, CO 80302
CATEGORIES:activism,creative arts,culture building,education,Indigenous knowledge, organizing & leadership,resilience,social justice
ATTACH;FMTTYPE=image/png:https://boulder.earth/wp-content/uploads/2026/04/Screenshot-2026-04-20-at-8.41.22-AM-e1776696114981.png
GEO:40.0193233;-105.261078
X-APPLE-STRUCTURED-LOCATION;VALUE=URI;X-ADDRESS=Dairy Arts Center 2590 Walnut Street Boulder CO 80302;X-APPLE-RADIUS=500;X-TITLE=2590 Walnut Street Boulder\, CO 80302:geo:-105.261078,40.0193233
END:VEVENT
END:VCALENDAR