BEGIN:VCALENDAR
VERSION:2.0
PRODID:-//Boulder.Earth Climate Action Portal - ECPv6.15.20//NONSGML v1.0//EN
CALSCALE:GREGORIAN
METHOD:PUBLISH
X-ORIGINAL-URL:https://boulder.earth
X-WR-CALDESC:Events for Boulder.Earth Climate Action Portal
REFRESH-INTERVAL;VALUE=DURATION:PT1H
X-Robots-Tag:noindex
X-PUBLISHED-TTL:PT1H
BEGIN:VTIMEZONE
TZID:America/Denver
BEGIN:DAYLIGHT
TZOFFSETFROM:-0700
TZOFFSETTO:-0600
TZNAME:MDT
DTSTART:20250309T090000
END:DAYLIGHT
BEGIN:STANDARD
TZOFFSETFROM:-0600
TZOFFSETTO:-0700
TZNAME:MST
DTSTART:20251102T080000
END:STANDARD
BEGIN:DAYLIGHT
TZOFFSETFROM:-0700
TZOFFSETTO:-0600
TZNAME:MDT
DTSTART:20260308T090000
END:DAYLIGHT
BEGIN:STANDARD
TZOFFSETFROM:-0600
TZOFFSETTO:-0700
TZNAME:MST
DTSTART:20261101T080000
END:STANDARD
BEGIN:DAYLIGHT
TZOFFSETFROM:-0700
TZOFFSETTO:-0600
TZNAME:MDT
DTSTART:20270314T090000
END:DAYLIGHT
BEGIN:STANDARD
TZOFFSETFROM:-0600
TZOFFSETTO:-0700
TZNAME:MST
DTSTART:20271107T080000
END:STANDARD
END:VTIMEZONE
BEGIN:VEVENT
DTSTART;TZID=America/Denver:20260422T180000
DTEND;TZID=America/Denver:20260422T193000
DTSTAMP:20260425T163716
CREATED:20260407T003109Z
LAST-MODIFIED:20260407T003109Z
UID:10003390-1776880800-1776886200@boulder.earth
SUMMARY:After We March\, We Organize! Solidarity Warriors Indivisible Action Group
DESCRIPTION:📢✊ After We March\, We Organize! 🔥 Solidarity Warriors Indivisible Action Group 🗽\nWhen: Wednesdays\,  6pm-7:30pm \nWhere: Virtual \nREGISTER HERE! \nMass demonstrations like 🚫👑 No Kings prove one thing beyond doubt: the people are AWAKE and FIRED UP! 🔥 But rallying in the streets is just the beginning. The real power comes from what we do after the march. Research shows that no movement with 3.5% of the population in continuous mobilization has ever failed 📊 — but only when they go beyond demonstrations into mass noncooperation\, noncompliance\, and strategic action that dismantles the pillars holding up authoritarianism. That’s exactly what we’re here to build. 🛠️ Come learn the organizing skills we wish we had known from the start — and let’s transform that protest energy into lasting\, unstoppable change. 💪 \n📚🎤 Every week we feature guest speakers and training on topics like: \n🛡️ How to Protest Safely 🌎 Immigrant Rights 🪶 Indigenous History 🔐 Cybersecurity ✊ Community Organizing Tactics and much more! \n🌟 About Solidarity Warriors: We’re an action-focused\, Indivisible group 💥 born after the November election and proud lead organizers of No Kings 2 in Denver 🏔️. We’re people from across the nation — many in Colorado — united by one commitment: action over grievance. 🎯 We don’t just talk about what’s wrong — we plan\, organize\, and partner with marginalized communities to make things right. ✊🏽 \n🚨 Come ready to answer one question: What are YOU going to DO? 👉 Join us. The movement needs you. 🗽✊🔥
URL:https://boulder.earth/event/after-we-march-we-organize-solidarity-warriors-indivisible-action-group/2026-04-22/
LOCATION:Virtual
CATEGORIES:activism,climate,community,education,Governance,Human Rights,Networking,resilience,social justice,Webinar
ATTACH;FMTTYPE=image/png:https://boulder.earth/wp-content/uploads/2026/04/Sunset-crowd-raised-fists-One-line-01_20250721004218694808-e1775521865495.png
END:VEVENT
BEGIN:VEVENT
DTSTART;TZID=America/Denver:20260415T180000
DTEND;TZID=America/Denver:20260415T193000
DTSTAMP:20260425T163716
CREATED:20260407T003109Z
LAST-MODIFIED:20260407T003109Z
UID:10003389-1776276000-1776281400@boulder.earth
SUMMARY:After We March\, We Organize! Solidarity Warriors Indivisible Action Group
DESCRIPTION:📢✊ After We March\, We Organize! 🔥 Solidarity Warriors Indivisible Action Group 🗽\nWhen: Wednesdays\,  6pm-7:30pm \nWhere: Virtual \nREGISTER HERE! \nMass demonstrations like 🚫👑 No Kings prove one thing beyond doubt: the people are AWAKE and FIRED UP! 🔥 But rallying in the streets is just the beginning. The real power comes from what we do after the march. Research shows that no movement with 3.5% of the population in continuous mobilization has ever failed 📊 — but only when they go beyond demonstrations into mass noncooperation\, noncompliance\, and strategic action that dismantles the pillars holding up authoritarianism. That’s exactly what we’re here to build. 🛠️ Come learn the organizing skills we wish we had known from the start — and let’s transform that protest energy into lasting\, unstoppable change. 💪 \n📚🎤 Every week we feature guest speakers and training on topics like: \n🛡️ How to Protest Safely 🌎 Immigrant Rights 🪶 Indigenous History 🔐 Cybersecurity ✊ Community Organizing Tactics and much more! \n🌟 About Solidarity Warriors: We’re an action-focused\, Indivisible group 💥 born after the November election and proud lead organizers of No Kings 2 in Denver 🏔️. We’re people from across the nation — many in Colorado — united by one commitment: action over grievance. 🎯 We don’t just talk about what’s wrong — we plan\, organize\, and partner with marginalized communities to make things right. ✊🏽 \n🚨 Come ready to answer one question: What are YOU going to DO? 👉 Join us. The movement needs you. 🗽✊🔥
URL:https://boulder.earth/event/after-we-march-we-organize-solidarity-warriors-indivisible-action-group/2026-04-15/
LOCATION:Virtual
CATEGORIES:activism,climate,community,education,Governance,Human Rights,Networking,resilience,social justice,Webinar
ATTACH;FMTTYPE=image/png:https://boulder.earth/wp-content/uploads/2026/04/Sunset-crowd-raised-fists-One-line-01_20250721004218694808-e1775521865495.png
END:VEVENT
BEGIN:VEVENT
DTSTART;TZID=America/Denver:20260408T180000
DTEND;TZID=America/Denver:20260408T193000
DTSTAMP:20260425T163716
CREATED:20260407T003109Z
LAST-MODIFIED:20260407T003109Z
UID:10003388-1775671200-1775676600@boulder.earth
SUMMARY:After We March\, We Organize! Solidarity Warriors Indivisible Action Group
DESCRIPTION:📢✊ After We March\, We Organize! 🔥 Solidarity Warriors Indivisible Action Group 🗽\nWhen: Wednesdays\,  6pm-7:30pm \nWhere: Virtual \nREGISTER HERE! \nMass demonstrations like 🚫👑 No Kings prove one thing beyond doubt: the people are AWAKE and FIRED UP! 🔥 But rallying in the streets is just the beginning. The real power comes from what we do after the march. Research shows that no movement with 3.5% of the population in continuous mobilization has ever failed 📊 — but only when they go beyond demonstrations into mass noncooperation\, noncompliance\, and strategic action that dismantles the pillars holding up authoritarianism. That’s exactly what we’re here to build. 🛠️ Come learn the organizing skills we wish we had known from the start — and let’s transform that protest energy into lasting\, unstoppable change. 💪 \n📚🎤 Every week we feature guest speakers and training on topics like: \n🛡️ How to Protest Safely 🌎 Immigrant Rights 🪶 Indigenous History 🔐 Cybersecurity ✊ Community Organizing Tactics and much more! \n🌟 About Solidarity Warriors: We’re an action-focused\, Indivisible group 💥 born after the November election and proud lead organizers of No Kings 2 in Denver 🏔️. We’re people from across the nation — many in Colorado — united by one commitment: action over grievance. 🎯 We don’t just talk about what’s wrong — we plan\, organize\, and partner with marginalized communities to make things right. ✊🏽 \n🚨 Come ready to answer one question: What are YOU going to DO? 👉 Join us. The movement needs you. 🗽✊🔥
URL:https://boulder.earth/event/after-we-march-we-organize-solidarity-warriors-indivisible-action-group/2026-04-08/
LOCATION:Virtual
CATEGORIES:activism,climate,community,education,Governance,Human Rights,Networking,resilience,social justice,Webinar
ATTACH;FMTTYPE=image/png:https://boulder.earth/wp-content/uploads/2026/04/Sunset-crowd-raised-fists-One-line-01_20250721004218694808-e1775521865495.png
END:VEVENT
BEGIN:VEVENT
DTSTART;TZID=America/Denver:20260401T180000
DTEND;TZID=America/Denver:20260401T193000
DTSTAMP:20260425T163716
CREATED:20260407T003109Z
LAST-MODIFIED:20260407T003109Z
UID:10003387-1775066400-1775071800@boulder.earth
SUMMARY:After We March\, We Organize! Solidarity Warriors Indivisible Action Group
DESCRIPTION:📢✊ After We March\, We Organize! 🔥 Solidarity Warriors Indivisible Action Group 🗽\nWhen: Wednesdays\,  6pm-7:30pm \nWhere: Virtual \nREGISTER HERE! \nMass demonstrations like 🚫👑 No Kings prove one thing beyond doubt: the people are AWAKE and FIRED UP! 🔥 But rallying in the streets is just the beginning. The real power comes from what we do after the march. Research shows that no movement with 3.5% of the population in continuous mobilization has ever failed 📊 — but only when they go beyond demonstrations into mass noncooperation\, noncompliance\, and strategic action that dismantles the pillars holding up authoritarianism. That’s exactly what we’re here to build. 🛠️ Come learn the organizing skills we wish we had known from the start — and let’s transform that protest energy into lasting\, unstoppable change. 💪 \n📚🎤 Every week we feature guest speakers and training on topics like: \n🛡️ How to Protest Safely 🌎 Immigrant Rights 🪶 Indigenous History 🔐 Cybersecurity ✊ Community Organizing Tactics and much more! \n🌟 About Solidarity Warriors: We’re an action-focused\, Indivisible group 💥 born after the November election and proud lead organizers of No Kings 2 in Denver 🏔️. We’re people from across the nation — many in Colorado — united by one commitment: action over grievance. 🎯 We don’t just talk about what’s wrong — we plan\, organize\, and partner with marginalized communities to make things right. ✊🏽 \n🚨 Come ready to answer one question: What are YOU going to DO? 👉 Join us. The movement needs you. 🗽✊🔥
URL:https://boulder.earth/event/after-we-march-we-organize-solidarity-warriors-indivisible-action-group/2026-04-01/
LOCATION:Virtual
CATEGORIES:activism,climate,community,education,Governance,Human Rights,Networking,resilience,social justice,Webinar
ATTACH;FMTTYPE=image/png:https://boulder.earth/wp-content/uploads/2026/04/Sunset-crowd-raised-fists-One-line-01_20250721004218694808-e1775521865495.png
END:VEVENT
END:VCALENDAR