BEGIN:VCALENDAR
VERSION:2.0
PRODID:-//Boulder.Earth Climate Action Portal - ECPv6.15.20//NONSGML v1.0//EN
CALSCALE:GREGORIAN
METHOD:PUBLISH
X-ORIGINAL-URL:https://boulder.earth
X-WR-CALDESC:Events for Boulder.Earth Climate Action Portal
REFRESH-INTERVAL;VALUE=DURATION:PT1H
X-Robots-Tag:noindex
X-PUBLISHED-TTL:PT1H
BEGIN:VTIMEZONE
TZID:America/Denver
BEGIN:DAYLIGHT
TZOFFSETFROM:-0700
TZOFFSETTO:-0600
TZNAME:MDT
DTSTART:20250309T090000
END:DAYLIGHT
BEGIN:STANDARD
TZOFFSETFROM:-0600
TZOFFSETTO:-0700
TZNAME:MST
DTSTART:20251102T080000
END:STANDARD
BEGIN:DAYLIGHT
TZOFFSETFROM:-0700
TZOFFSETTO:-0600
TZNAME:MDT
DTSTART:20260308T090000
END:DAYLIGHT
BEGIN:STANDARD
TZOFFSETFROM:-0600
TZOFFSETTO:-0700
TZNAME:MST
DTSTART:20261101T080000
END:STANDARD
BEGIN:DAYLIGHT
TZOFFSETFROM:-0700
TZOFFSETTO:-0600
TZNAME:MDT
DTSTART:20270314T090000
END:DAYLIGHT
BEGIN:STANDARD
TZOFFSETFROM:-0600
TZOFFSETTO:-0700
TZNAME:MST
DTSTART:20271107T080000
END:STANDARD
END:VTIMEZONE
BEGIN:VEVENT
DTSTART;VALUE=DATE:20260615
DTEND;VALUE=DATE:20260629
DTSTAMP:20260425T151727
CREATED:20260414T021537Z
LAST-MODIFIED:20260414T021537Z
UID:10003454-1781481600-1782691199@boulder.earth
SUMMARY:The Kiva Center Summer Programs Skills: Crafting In The Wild
DESCRIPTION:The Kiva Center Summer Programs Skills: Crafting In The Wild\nWhen: June 15-28\, Monday-Friday\, 9am-3pm \nWhere: The Kiva Center \nREGISTER HERE! \nUnleash your inner maker! In this program\, kids transform natural treasures into actual\, working tools. Throughout the program\, children learn how to gather materials respectfully\, minimize impact\, and express gratitude for the resources they use. \nThe Skill: Participants will learn the secret of building a tool with natural materials. \nThe Takeaway: By the end of the week\, they’ll head home with functional tools and a massive boost in confidence. \nSummer Program Mentors will provide direct instruction\, demonstrations\, and ongoing supervision to support safety and skill development.
URL:https://boulder.earth/event/the-kiva-center-summer-programs-skills-crafting-in-the-wild/
LOCATION:The Kiva Center
CATEGORIES:climate,creative arts,education,Nature,youth
ATTACH;FMTTYPE=image/avif:https://boulder.earth/wp-content/uploads/2026/04/kiva-center-high-res-logo-horizontal.avif
END:VEVENT
BEGIN:VEVENT
DTSTART;TZID=America/Denver:20260706T090000
DTEND;TZID=America/Denver:20260706T150000
DTSTAMP:20260425T151727
CREATED:20260414T021825Z
LAST-MODIFIED:20260414T021825Z
UID:10003455-1783328400-1783350000@boulder.earth
SUMMARY:The Kiva Center Summer Programs Skills: Hidden In Plain Sight
DESCRIPTION:The Kiva Center Summer Programs Skills: Hidden In Plain Sight\nWhen: July 6\, July 8\, July 10; 9am-3pm \nWhere: The Kiva Center \nREGISTER HERE! \nLearn the Skill of Camouflage! \nEver wonder how animals move through the woods unseen? Now your child can learn their secrets! Using all our senses\, movement strategies\, and awareness techniques\, we will explore different natural landscapes. \nThe Skill: Learn the art of camouflage This is a playful\, quiet exploration where kids practice stealthy movement\, sensory observation\, and the art of camouflage. Using animal behavior and movement\, participants will learn how animals remain aware of and adapt to their environment. \nThe Fun: Through epic games of awareness and stealth\, participants learn to blend into different landscapes\, such as wooded groves\, open spaces\, and creekbeds. \nThe Takeaway: We focus on slowing down\, noticing the small details\, and practicing the focus\, attention\, and impulse control needed to move like the wild. \nThis program prioritizes calm\, attentive learning and provides children with tools to increase focus\, situational awareness\, and respectful engagement with the natural world.
URL:https://boulder.earth/event/the-kiva-center-summer-programs-skills-hidden-in-plain-sight/2026-07-06/
LOCATION:The Kiva Center
CATEGORIES:Animals,Biodiversity,climate,creative arts,education,Nature,youth
ATTACH;FMTTYPE=image/avif:https://boulder.earth/wp-content/uploads/2026/04/kiva-center-high-res-logo-horizontal.avif
END:VEVENT
BEGIN:VEVENT
DTSTART;TZID=America/Denver:20260708T090000
DTEND;TZID=America/Denver:20260708T150000
DTSTAMP:20260425T151727
CREATED:20260414T021825Z
LAST-MODIFIED:20260414T021825Z
UID:10003456-1783501200-1783522800@boulder.earth
SUMMARY:The Kiva Center Summer Programs Skills: Hidden In Plain Sight
DESCRIPTION:The Kiva Center Summer Programs Skills: Hidden In Plain Sight\nWhen: July 6\, July 8\, July 10; 9am-3pm \nWhere: The Kiva Center \nREGISTER HERE! \nLearn the Skill of Camouflage! \nEver wonder how animals move through the woods unseen? Now your child can learn their secrets! Using all our senses\, movement strategies\, and awareness techniques\, we will explore different natural landscapes. \nThe Skill: Learn the art of camouflage This is a playful\, quiet exploration where kids practice stealthy movement\, sensory observation\, and the art of camouflage. Using animal behavior and movement\, participants will learn how animals remain aware of and adapt to their environment. \nThe Fun: Through epic games of awareness and stealth\, participants learn to blend into different landscapes\, such as wooded groves\, open spaces\, and creekbeds. \nThe Takeaway: We focus on slowing down\, noticing the small details\, and practicing the focus\, attention\, and impulse control needed to move like the wild. \nThis program prioritizes calm\, attentive learning and provides children with tools to increase focus\, situational awareness\, and respectful engagement with the natural world.
URL:https://boulder.earth/event/the-kiva-center-summer-programs-skills-hidden-in-plain-sight/2026-07-08/
LOCATION:The Kiva Center
CATEGORIES:Animals,Biodiversity,climate,creative arts,education,Nature,youth
ATTACH;FMTTYPE=image/avif:https://boulder.earth/wp-content/uploads/2026/04/kiva-center-high-res-logo-horizontal.avif
END:VEVENT
BEGIN:VEVENT
DTSTART;TZID=America/Denver:20260710T090000
DTEND;TZID=America/Denver:20260710T150000
DTSTAMP:20260425T151727
CREATED:20260414T021825Z
LAST-MODIFIED:20260414T021825Z
UID:10003457-1783674000-1783695600@boulder.earth
SUMMARY:The Kiva Center Summer Programs Skills: Hidden In Plain Sight
DESCRIPTION:The Kiva Center Summer Programs Skills: Hidden In Plain Sight\nWhen: July 6\, July 8\, July 10; 9am-3pm \nWhere: The Kiva Center \nREGISTER HERE! \nLearn the Skill of Camouflage! \nEver wonder how animals move through the woods unseen? Now your child can learn their secrets! Using all our senses\, movement strategies\, and awareness techniques\, we will explore different natural landscapes. \nThe Skill: Learn the art of camouflage This is a playful\, quiet exploration where kids practice stealthy movement\, sensory observation\, and the art of camouflage. Using animal behavior and movement\, participants will learn how animals remain aware of and adapt to their environment. \nThe Fun: Through epic games of awareness and stealth\, participants learn to blend into different landscapes\, such as wooded groves\, open spaces\, and creekbeds. \nThe Takeaway: We focus on slowing down\, noticing the small details\, and practicing the focus\, attention\, and impulse control needed to move like the wild. \nThis program prioritizes calm\, attentive learning and provides children with tools to increase focus\, situational awareness\, and respectful engagement with the natural world.
URL:https://boulder.earth/event/the-kiva-center-summer-programs-skills-hidden-in-plain-sight/2026-07-10/
LOCATION:The Kiva Center
CATEGORIES:Animals,Biodiversity,climate,creative arts,education,Nature,youth
ATTACH;FMTTYPE=image/avif:https://boulder.earth/wp-content/uploads/2026/04/kiva-center-high-res-logo-horizontal.avif
END:VEVENT
BEGIN:VEVENT
DTSTART;VALUE=DATE:20260717
DTEND;VALUE=DATE:20260720
DTSTAMP:20260425T151727
CREATED:20260414T021337Z
LAST-MODIFIED:20260414T021337Z
UID:10003453-1784246400-1784505599@boulder.earth
SUMMARY:The Kiva Center Professional Development: Rooted In Wonder
DESCRIPTION:The Kiva Center Professional Development: Rooted In Wonder\nWhen: July 17-19 \nWhere: The Kiva Center \nREGISTER HERE! \nRooted in Wonder is a two-day immersive training designed for educators\, parents\, mental health professionals\, and community members who are committed to nurturing the well-being\, resilience\, and sense of belonging of the next generation. \nThis experience introduces participants to practical\, nature-based approaches that support social-emotional development\, strengthen community connections\, and cultivate meaningful engagement with the natural world. Participants leave with applicable tools\, professional insights\, and collaborative relationships that can enhance their work in schools\, organizations\, and community settings. \nHosted at The Kiva Center’s 80-acre wilderness site in Lefthand Canyon\, the program provides a restorative learning environment where participants can deepen their professional practice while reconnecting with the values that inspire their work.
URL:https://boulder.earth/event/the-kiva-center-professional-development-rooted-in-wonder/
LOCATION:The Kiva Center
CATEGORIES:climate,culture building,Health,Nature,Networking
ATTACH;FMTTYPE=image/avif:https://boulder.earth/wp-content/uploads/2026/04/kiva-center-high-res-logo-horizontal.avif
END:VEVENT
BEGIN:VEVENT
DTSTART;TZID=America/Denver:20260720T090000
DTEND;TZID=America/Denver:20260720T150000
DTSTAMP:20260425T151727
CREATED:20260414T022233Z
LAST-MODIFIED:20260414T022233Z
UID:10003458-1784538000-1784559600@boulder.earth
SUMMARY:The Kiva Center Summer Programs Skills: Foraging (Herbalism)
DESCRIPTION:The Kiva Center Summer Programs Skills: Foraging (Herbalism)\nWhen: July 20\, July 22\, July 24; 9am-3pm \nWhere: The Kiva Center \nREGISTER HERE! \nJoin The Kiva Center to learn the skill of foraging! Through hands-on discovery\, participants will learn the art of recognizing common edible and medicinal plants. This program blends exploration and hands-on projects while building the real-world skill of foraging. \nThe Skill: Participants will practice ethical plant gathering as they learn how plants have supported humans across cultures and time. \nThe Takeaway: This program is designed to spark confidence\, creativity\, and respect for nature. For parents\, this means a meaningful\, age-appropriate introduction to the skill of foraging in a way kids genuinely love.
URL:https://boulder.earth/event/the-kiva-center-summer-programs-skills-foraging-herbalism/2026-07-20/
LOCATION:The Kiva Center
CATEGORIES:Biodiversity,climate,education,food,Nature
ATTACH;FMTTYPE=image/avif:https://boulder.earth/wp-content/uploads/2026/04/kiva-center-high-res-logo-horizontal.avif
END:VEVENT
BEGIN:VEVENT
DTSTART;TZID=America/Denver:20260722T090000
DTEND;TZID=America/Denver:20260722T150000
DTSTAMP:20260425T151727
CREATED:20260414T022233Z
LAST-MODIFIED:20260414T022233Z
UID:10003459-1784710800-1784732400@boulder.earth
SUMMARY:The Kiva Center Summer Programs Skills: Foraging (Herbalism)
DESCRIPTION:The Kiva Center Summer Programs Skills: Foraging (Herbalism)\nWhen: July 20\, July 22\, July 24; 9am-3pm \nWhere: The Kiva Center \nREGISTER HERE! \nJoin The Kiva Center to learn the skill of foraging! Through hands-on discovery\, participants will learn the art of recognizing common edible and medicinal plants. This program blends exploration and hands-on projects while building the real-world skill of foraging. \nThe Skill: Participants will practice ethical plant gathering as they learn how plants have supported humans across cultures and time. \nThe Takeaway: This program is designed to spark confidence\, creativity\, and respect for nature. For parents\, this means a meaningful\, age-appropriate introduction to the skill of foraging in a way kids genuinely love.
URL:https://boulder.earth/event/the-kiva-center-summer-programs-skills-foraging-herbalism/2026-07-22/
LOCATION:The Kiva Center
CATEGORIES:Biodiversity,climate,education,food,Nature
ATTACH;FMTTYPE=image/avif:https://boulder.earth/wp-content/uploads/2026/04/kiva-center-high-res-logo-horizontal.avif
END:VEVENT
BEGIN:VEVENT
DTSTART;TZID=America/Denver:20260724T090000
DTEND;TZID=America/Denver:20260724T150000
DTSTAMP:20260425T151727
CREATED:20260414T022233Z
LAST-MODIFIED:20260414T022233Z
UID:10003460-1784883600-1784905200@boulder.earth
SUMMARY:The Kiva Center Summer Programs Skills: Foraging (Herbalism)
DESCRIPTION:The Kiva Center Summer Programs Skills: Foraging (Herbalism)\nWhen: July 20\, July 22\, July 24; 9am-3pm \nWhere: The Kiva Center \nREGISTER HERE! \nJoin The Kiva Center to learn the skill of foraging! Through hands-on discovery\, participants will learn the art of recognizing common edible and medicinal plants. This program blends exploration and hands-on projects while building the real-world skill of foraging. \nThe Skill: Participants will practice ethical plant gathering as they learn how plants have supported humans across cultures and time. \nThe Takeaway: This program is designed to spark confidence\, creativity\, and respect for nature. For parents\, this means a meaningful\, age-appropriate introduction to the skill of foraging in a way kids genuinely love.
URL:https://boulder.earth/event/the-kiva-center-summer-programs-skills-foraging-herbalism/2026-07-24/
LOCATION:The Kiva Center
CATEGORIES:Biodiversity,climate,education,food,Nature
ATTACH;FMTTYPE=image/avif:https://boulder.earth/wp-content/uploads/2026/04/kiva-center-high-res-logo-horizontal.avif
END:VEVENT
END:VCALENDAR