BEGIN:VCALENDAR
VERSION:2.0
PRODID:-//Boulder.Earth Climate Action Portal - ECPv6.15.20//NONSGML v1.0//EN
CALSCALE:GREGORIAN
METHOD:PUBLISH
X-ORIGINAL-URL:https://boulder.earth
X-WR-CALDESC:Events for Boulder.Earth Climate Action Portal
REFRESH-INTERVAL;VALUE=DURATION:PT1H
X-Robots-Tag:noindex
X-PUBLISHED-TTL:PT1H
BEGIN:VTIMEZONE
TZID:America/Denver
BEGIN:DAYLIGHT
TZOFFSETFROM:-0700
TZOFFSETTO:-0600
TZNAME:MDT
DTSTART:20250309T090000
END:DAYLIGHT
BEGIN:STANDARD
TZOFFSETFROM:-0600
TZOFFSETTO:-0700
TZNAME:MST
DTSTART:20251102T080000
END:STANDARD
BEGIN:DAYLIGHT
TZOFFSETFROM:-0700
TZOFFSETTO:-0600
TZNAME:MDT
DTSTART:20260308T090000
END:DAYLIGHT
BEGIN:STANDARD
TZOFFSETFROM:-0600
TZOFFSETTO:-0700
TZNAME:MST
DTSTART:20261101T080000
END:STANDARD
BEGIN:DAYLIGHT
TZOFFSETFROM:-0700
TZOFFSETTO:-0600
TZNAME:MDT
DTSTART:20270314T090000
END:DAYLIGHT
BEGIN:STANDARD
TZOFFSETFROM:-0600
TZOFFSETTO:-0700
TZNAME:MST
DTSTART:20271107T080000
END:STANDARD
END:VTIMEZONE
BEGIN:VEVENT
DTSTART;TZID=America/Denver:20260425T080000
DTEND;TZID=America/Denver:20260425T140000
DTSTAMP:20260425T153535
CREATED:20260422T040304Z
LAST-MODIFIED:20260422T040720Z
UID:10003476-1777104000-1777125600@boulder.earth
SUMMARY:Boulder Farmers Market
DESCRIPTION:Boulder Farmers Market\nWhen: Saturdays\, 8am-2pm \nWhere: 13th St & Canyon Blvd \nLEARN MORE HERE! \nWe’re excited to have 75 vendor join us for opening day at the Boulder Farmers Market! Give an old-fashion farmers market welcome to new vendor\, Kinship Bread\, and be sure to stop by Cure Organic Farm’s booth for tulips. In addition to fresh veggies\, enjoy lively tunes from Tim Ostdiek and celebrate Boulder Arts Week by watching Plein Air artists paint beautiful market landscapes. View vendor list here.
URL:https://boulder.earth/event/boulder-farmers-market/2026-04-25/
LOCATION:Boulder Farmers Market\, 13th Street and Canyon Boulevard\, Boulder\, CO\, 80302\, United States
CATEGORIES:agriculture,community,food
ATTACH;FMTTYPE=image/jpeg:https://boulder.earth/wp-content/uploads/2026/04/5a1a4a83-2755-6e04-62f2-ff349ad4a3cd-e1776830580952.jpg
GEO:40.016206;-105.2779917
X-APPLE-STRUCTURED-LOCATION;VALUE=URI;X-ADDRESS=Boulder Farmers Market 13th Street and Canyon Boulevard Boulder CO 80302 United States;X-APPLE-RADIUS=500;X-TITLE=13th Street and Canyon Boulevard:geo:-105.2779917,40.016206
END:VEVENT
BEGIN:VEVENT
DTSTART;TZID=America/Denver:20260418T080000
DTEND;TZID=America/Denver:20260418T140000
DTSTAMP:20260425T153535
CREATED:20260422T040304Z
LAST-MODIFIED:20260422T040720Z
UID:10003475-1776499200-1776520800@boulder.earth
SUMMARY:Boulder Farmers Market
DESCRIPTION:Boulder Farmers Market\nWhen: Saturdays\, 8am-2pm \nWhere: 13th St & Canyon Blvd \nLEARN MORE HERE! \nWe’re excited to have 75 vendor join us for opening day at the Boulder Farmers Market! Give an old-fashion farmers market welcome to new vendor\, Kinship Bread\, and be sure to stop by Cure Organic Farm’s booth for tulips. In addition to fresh veggies\, enjoy lively tunes from Tim Ostdiek and celebrate Boulder Arts Week by watching Plein Air artists paint beautiful market landscapes. View vendor list here.
URL:https://boulder.earth/event/boulder-farmers-market/2026-04-18/
LOCATION:Boulder Farmers Market\, 13th Street and Canyon Boulevard\, Boulder\, CO\, 80302\, United States
CATEGORIES:agriculture,community,food
ATTACH;FMTTYPE=image/jpeg:https://boulder.earth/wp-content/uploads/2026/04/5a1a4a83-2755-6e04-62f2-ff349ad4a3cd-e1776830580952.jpg
GEO:40.016206;-105.2779917
X-APPLE-STRUCTURED-LOCATION;VALUE=URI;X-ADDRESS=Boulder Farmers Market 13th Street and Canyon Boulevard Boulder CO 80302 United States;X-APPLE-RADIUS=500;X-TITLE=13th Street and Canyon Boulevard:geo:-105.2779917,40.016206
END:VEVENT
BEGIN:VEVENT
DTSTART;TZID=America/Denver:20260418T080000
DTEND;TZID=America/Denver:20260418T140000
DTSTAMP:20260425T153535
CREATED:20260408T201936Z
LAST-MODIFIED:20260408T201936Z
UID:10003438-1776499200-1776520800@boulder.earth
SUMMARY:Boulder Tree Seedling Giveaway
DESCRIPTION:Boulder Tree Seedling Giveaway\nWhen: April 18\, 8am-2pm \nWhere: 13th and Arapahoe\, Boulder \n\n\n\nBack for another year\, Boulder’s Forestry staff are teaming up with the PLAY Boulder Foundation to give away tree seedlings to Boulder community members on Saturday\, April 18th at Boulder Farmer’s Market at 13th and Arapahoe. The event starts at 8 a.m. and will go until 2 p.m. and is first come\, first “treed”. Colorado State University Extension Master Gardeners will also be there providing free native plants!\nStaff from Boulder Forestry\, CSU Master Gardeners\, and PLAY Boulder’s Tree Tender program will be available for community members to learn more about trees and how to volunteer. \nThank you to everyone for joining the city during Arbor Day weekend\, getting a free tree seedling and native plant\, and commemorating Boulder’s 43nd year as a Tree City USA and for the seventh year\, a Tree City of the World.
URL:https://boulder.earth/event/boulder-tree-seedling-giveaway/
LOCATION:Boulder Farmers Market\, 13th Street and Canyon Boulevard\, Boulder\, CO\, 80302\, United States
CATEGORIES:Biodiversity,climate,community,Land Management,Nature
ATTACH;FMTTYPE=image/jpeg:https://boulder.earth/wp-content/uploads/2022/04/planting-tree.jpg
GEO:40.016206;-105.2779917
X-APPLE-STRUCTURED-LOCATION;VALUE=URI;X-ADDRESS=Boulder Farmers Market 13th Street and Canyon Boulevard Boulder CO 80302 United States;X-APPLE-RADIUS=500;X-TITLE=13th Street and Canyon Boulevard:geo:-105.2779917,40.016206
END:VEVENT
BEGIN:VEVENT
DTSTART;TZID=America/Denver:20260411T080000
DTEND;TZID=America/Denver:20260411T140000
DTSTAMP:20260425T153535
CREATED:20260422T040304Z
LAST-MODIFIED:20260422T040720Z
UID:10003474-1775894400-1775916000@boulder.earth
SUMMARY:Boulder Farmers Market
DESCRIPTION:Boulder Farmers Market\nWhen: Saturdays\, 8am-2pm \nWhere: 13th St & Canyon Blvd \nLEARN MORE HERE! \nWe’re excited to have 75 vendor join us for opening day at the Boulder Farmers Market! Give an old-fashion farmers market welcome to new vendor\, Kinship Bread\, and be sure to stop by Cure Organic Farm’s booth for tulips. In addition to fresh veggies\, enjoy lively tunes from Tim Ostdiek and celebrate Boulder Arts Week by watching Plein Air artists paint beautiful market landscapes. View vendor list here.
URL:https://boulder.earth/event/boulder-farmers-market/2026-04-11/
LOCATION:Boulder Farmers Market\, 13th Street and Canyon Boulevard\, Boulder\, CO\, 80302\, United States
CATEGORIES:agriculture,community,food
ATTACH;FMTTYPE=image/jpeg:https://boulder.earth/wp-content/uploads/2026/04/5a1a4a83-2755-6e04-62f2-ff349ad4a3cd-e1776830580952.jpg
GEO:40.016206;-105.2779917
X-APPLE-STRUCTURED-LOCATION;VALUE=URI;X-ADDRESS=Boulder Farmers Market 13th Street and Canyon Boulevard Boulder CO 80302 United States;X-APPLE-RADIUS=500;X-TITLE=13th Street and Canyon Boulevard:geo:-105.2779917,40.016206
END:VEVENT
BEGIN:VEVENT
DTSTART;TZID=America/Denver:20260404T080000
DTEND;TZID=America/Denver:20260404T140000
DTSTAMP:20260425T153535
CREATED:20260422T040304Z
LAST-MODIFIED:20260422T040720Z
UID:10003473-1775289600-1775311200@boulder.earth
SUMMARY:Boulder Farmers Market
DESCRIPTION:Boulder Farmers Market\nWhen: Saturdays\, 8am-2pm \nWhere: 13th St & Canyon Blvd \nLEARN MORE HERE! \nWe’re excited to have 75 vendor join us for opening day at the Boulder Farmers Market! Give an old-fashion farmers market welcome to new vendor\, Kinship Bread\, and be sure to stop by Cure Organic Farm’s booth for tulips. In addition to fresh veggies\, enjoy lively tunes from Tim Ostdiek and celebrate Boulder Arts Week by watching Plein Air artists paint beautiful market landscapes. View vendor list here.
URL:https://boulder.earth/event/boulder-farmers-market/2026-04-04/
LOCATION:Boulder Farmers Market\, 13th Street and Canyon Boulevard\, Boulder\, CO\, 80302\, United States
CATEGORIES:agriculture,community,food
ATTACH;FMTTYPE=image/jpeg:https://boulder.earth/wp-content/uploads/2026/04/5a1a4a83-2755-6e04-62f2-ff349ad4a3cd-e1776830580952.jpg
GEO:40.016206;-105.2779917
X-APPLE-STRUCTURED-LOCATION;VALUE=URI;X-ADDRESS=Boulder Farmers Market 13th Street and Canyon Boulevard Boulder CO 80302 United States;X-APPLE-RADIUS=500;X-TITLE=13th Street and Canyon Boulevard:geo:-105.2779917,40.016206
END:VEVENT
END:VCALENDAR